BEGIN:VCALENDAR
VERSION:2.0
PRODID:-//eventon.com NONSGML v1.0//EN
BEGIN:VEVENT
UID:69eb7d1c68b33
DTSTAMP:20260424T162428
DTSTART:20260929T090000Z
DTEND:20261218T160000Z
TZID:Europe/Brussels
LOCATION:Interface3.Namur avenue Sergent Vrithoff 2\,  5000 Namur
SUMMARY:CISP - Je valorise mon profil
DESCRIPTION: Cisp Je valorise mon profil Ouvrez-vous à de nouveaux horizons et faites du numérique votre meilleur allié dans vos démarches quotidiennes (administratives\,  emploi\,  formation…) Prochaine session : du 29 septembre au 18 décembre 2026 Intéressé·e ? Participez à une des séances d’information : le 28 mai\,  le 15 juin\,  le[..]\nhttps://www.interface3namur.be/events/cisp-je-valorise-mon-profil-3/
URL:https://www.interface3namur.be/events/cisp-je-valorise-mon-profil-3/
END:VEVENT
END:VCALENDAR