BEGIN:VCALENDAR
VERSION:2.0
PRODID:-//eventon.com NONSGML v1.0//EN
BEGIN:VEVENT
UID:69eb79e7e12ac
DTSTAMP:20260424T161047
DTSTART:20260528T093000Z
DTEND:20260528T160000Z
TZID:Europe/Brussels
LOCATION:Interface3.Namur avenue Sergent Vrithoff 2\,  5000 Namur
SUMMARY:CISP - Je valorise mon profil avec le numérique
DESCRIPTION: Cisp Je valorise mon profil Ouvrez-vous à de nouveaux horizons et faites du numérique votre meilleur allié dans vos démarches quotidiennes (administratives\,  emploi\,  formation…) Prochaine session : du 29 septembre au 18 décembre 2026 Intéressé·e ? Participez à une des séances d’information : le 28 mai\,  le 15 juin\,  le[..]\nhttps://www.interface3namur.be/events/cisp-je-valorise-mon-profil-avec-le-numerique/
URL:https://www.interface3namur.be/events/cisp-je-valorise-mon-profil-avec-le-numerique/
END:VEVENT
END:VCALENDAR